BEGIN:VCALENDAR
VERSION:2.0
PRODID:-//Love INC of Greater Cushing - ECPv6.11.2//NONSGML v1.0//EN
CALSCALE:GREGORIAN
METHOD:PUBLISH
X-WR-CALNAME:Love INC of Greater Cushing
X-ORIGINAL-URL:https://loveincofcushing.org
X-WR-CALDESC:Events for Love INC of Greater Cushing
REFRESH-INTERVAL;VALUE=DURATION:PT1H
X-Robots-Tag:noindex
X-PUBLISHED-TTL:PT1H
BEGIN:VTIMEZONE
TZID:UTC
BEGIN:STANDARD
TZOFFSETFROM:+0000
TZOFFSETTO:+0000
TZNAME:UTC
DTSTART:20240101T000000
END:STANDARD
END:VTIMEZONE
BEGIN:VEVENT
DTSTART;TZID=UTC:20240611T183000
DTEND;TZID=UTC:20240611T200000
DTSTAMP:20260419T230735
CREATED:20240530T044439Z
LAST-MODIFIED:20240612T192033Z
UID:10000003-1718130600-1718136000@loveincofcushing.org
SUMMARY:Make and Take: Plant An Outdoor Planter
DESCRIPTION:Choose from shade or sun plants. Includes a thriller\, a filler and a spiller. \nAGES: High School and Up\nCOST: $30 \nSign Up
URL:https://loveincofcushing.org/event/make-and-take-plant-an-outdoor-planter/
LOCATION:GreenLife Planet\, 215 N Cleveland Ave\, Cushing\, OK\, 74023\, United States
ATTACH;FMTTYPE=image/jpeg:https://loveincofcushing.org/wp-content/uploads/2024/05/LoveINCCushing_Events_3.jpg
END:VEVENT
BEGIN:VEVENT
DTSTART;TZID=UTC:20240604T183000
DTEND;TZID=UTC:20240604T200000
DTSTAMP:20260419T230735
CREATED:20240530T044034Z
LAST-MODIFIED:20240612T192003Z
UID:10000002-1717525800-1717531200@loveincofcushing.org
SUMMARY:New Hope Reunion
DESCRIPTION:Potluck for Fall 2023 and Spring 2024 New Hope participants \nCOST: Potluck Dish \nSign Up
URL:https://loveincofcushing.org/event/new-hope-reunion/
LOCATION:Love INC of Cushing\, 321 E. Broadway St.\, Cushing\, OK\, 74023\, United States
ATTACH;FMTTYPE=image/jpeg:https://loveincofcushing.org/wp-content/uploads/2024/05/LoveINCCushing_Events_1.jpg
END:VEVENT
END:VCALENDAR