BEGIN:VCALENDAR
VERSION:2.0
PRODID:-//Love INC of Greater Cushing - ECPv6.11.2//NONSGML v1.0//EN
CALSCALE:GREGORIAN
METHOD:PUBLISH
X-ORIGINAL-URL:https://loveincofcushing.org
X-WR-CALDESC:Events for Love INC of Greater Cushing
REFRESH-INTERVAL;VALUE=DURATION:PT1H
X-Robots-Tag:noindex
X-PUBLISHED-TTL:PT1H
BEGIN:VTIMEZONE
TZID:America/Chicago
BEGIN:DAYLIGHT
TZOFFSETFROM:-0600
TZOFFSETTO:-0500
TZNAME:CDT
DTSTART:20260308T080000
END:DAYLIGHT
BEGIN:STANDARD
TZOFFSETFROM:-0500
TZOFFSETTO:-0600
TZNAME:CST
DTSTART:20261101T070000
END:STANDARD
END:VTIMEZONE
BEGIN:VEVENT
DTSTART;TZID=America/Chicago:20260604T183000
DTEND;TZID=America/Chicago:20260604T200000
DTSTAMP:20260419T145204
CREATED:20260402T201445Z
LAST-MODIFIED:20260402T201445Z
UID:10001687-1780597800-1780603200@loveincofcushing.org
SUMMARY:Faith & Finance: The Accountability Journey
DESCRIPTION:Join us for a meaningful and practical series designed to help you take control of your finances in a supportive\, faith-centered community. This gathering is a space to get your monthly finances in order while building accountability and encouragement with others on a similar journey. \nDates: May 14\, June 4\, June 25\, July 16\, August 6\nTime: 6:30 PM\nLocation: Love INC Connection Center\, 321 E. Broadway \nBring your budget and financial information as we come together to share ideas\, discuss challenges\, celebrate wins\, and grow together. This is more than just budgeting—it’s about community\, accountability\, and stewarding your resources with purpose. \nCome ready to connect\, learn\, and be encouraged. No Registration Needed \n\n\nEnroll Here
URL:https://loveincofcushing.org/event/faith-finance-the-accountability-journey-3/
LOCATION:Love INC of Cushing\, 321 E. Broadway St.\, Cushing\, OK\, 74023\, United States
ATTACH;FMTTYPE=image/png:https://loveincofcushing.org/wp-content/uploads/2026/04/Faith-finances-and-growth-together-1.png
END:VEVENT
BEGIN:VEVENT
DTSTART;TZID=America/Chicago:20260604T183000
DTEND;TZID=America/Chicago:20260604T200000
DTSTAMP:20260419T145204
CREATED:20260402T203644Z
LAST-MODIFIED:20260402T203644Z
UID:10001692-1780597800-1780603200@loveincofcushing.org
SUMMARY:From Clueless to Confident: Basic Car Maintenance 101 Workshop
DESCRIPTION:🛠️ You’ll learn:\n✔️ How to check fluids\n✔️ What warning lights mean\n✔️ Basic upkeep to keep your car running smoothly \n📅 June 4 | ⏰ 6:30 PM\n📍 Love INC Connection Center\, 321 E Broadway Street \n\n\nEnroll Here
URL:https://loveincofcushing.org/event/from-clueless-to-confident-basic-car-maintenance-101-workshop-2/
LOCATION:Love INC of Cushing\, 321 E. Broadway St.\, Cushing\, OK\, 74023\, United States
ATTACH;FMTTYPE=image/png:https://loveincofcushing.org/wp-content/uploads/2026/04/ChatGPT-Image-Mar-31-2026-02_51_59-PM.png
END:VEVENT
BEGIN:VEVENT
DTSTART;TZID=America/Chicago:20260606T100000
DTEND;TZID=America/Chicago:20260606T113000
DTSTAMP:20260419T145204
CREATED:20260414T231522Z
LAST-MODIFIED:20260414T233243Z
UID:10001694-1780740000-1780745400@loveincofcushing.org
SUMMARY:Make and Take Workshop: Sun Catcher
DESCRIPTION:DATE: Saturday\, June 6th\nLOCATION: 215 N. Cleveland @ Twisted Okies\nTIME: 10am\nFEE:  $ 20\n\nEnroll Here
URL:https://loveincofcushing.org/event/make-and-take-workshop-sun-catcher/
LOCATION:Twisted Okies\, 215 N. Cleveland\, Cushing\, ok\, 74023
ATTACH;FMTTYPE=image/png:https://loveincofcushing.org/wp-content/uploads/2026/04/Sun-catcher-event-flyer-design.png
END:VEVENT
BEGIN:VEVENT
DTSTART;TZID=America/Chicago:20260611T180000
DTEND;TZID=America/Chicago:20260611T200000
DTSTAMP:20260419T145204
CREATED:20260402T192311Z
LAST-MODIFIED:20260402T203813Z
UID:10001677-1781200800-1781208000@loveincofcushing.org
SUMMARY:Around the Table
DESCRIPTION:❤️ Community starts with a seat at the table.\nJoin us for Around the Table—a relaxed evening of connection\, conversation\, and fun. \nWhether you come for the food\, the games\, or just to be around others—you belong here. \n📅 May 21\, June 11\, July 2\, July 23\n⏰ 6–8 PM\n📍 Love INC Connection Center \nBring something yummy to share.  \nRegistration is not necessary
URL:https://loveincofcushing.org/event/around-the-table-2/
LOCATION:Love INC Connection Center\, 321 E Broadway St.\, Cushing\, OK\, 74023\, United States
ATTACH;FMTTYPE=image/png:https://loveincofcushing.org/wp-content/uploads/2026/04/Gathering-around-the-table-invitation.png
END:VEVENT
BEGIN:VEVENT
DTSTART;TZID=America/Chicago:20260618T183000
DTEND;TZID=America/Chicago:20260618T200000
DTSTAMP:20260419T145204
CREATED:20260402T201035Z
LAST-MODIFIED:20260402T204230Z
UID:10001685-1781807400-1781812800@loveincofcushing.org
SUMMARY:End-of-Life Planning: Care\, Choices\, and Conversations Workshop
DESCRIPTION:Planning ahead is one of the greatest gifts you can give your loved ones 💙 \n✨ What to expect:\n• Help starting important family conversations\n• Reflection on your values and wishes\n• Take-home planning packet (with Oklahoma-specific forms) \nThis workshop is for anyone who wants to be prepared\, reduce stress for their family\, and ensure their wishes are honored. \n📅 June 18\n📍 Love INC Connection Center\n⏰ 6:30pm \nSpace is limited—reserve your spot today! \n\n\nEnroll Here
URL:https://loveincofcushing.org/event/end-of-life-planning-care-choices-and-conversations-workshop/
LOCATION:Love INC of Cushing\, 321 E. Broadway St.\, Cushing\, OK\, 74023\, United States
ATTACH;FMTTYPE=image/png:https://loveincofcushing.org/wp-content/uploads/2026/04/Class-Workshop-slides-2.png
END:VEVENT
BEGIN:VEVENT
DTSTART;TZID=America/Chicago:20260625T183000
DTEND;TZID=America/Chicago:20260625T200000
DTSTAMP:20260419T145204
CREATED:20260402T201600Z
LAST-MODIFIED:20260414T233719Z
UID:10001688-1782412200-1782417600@loveincofcushing.org
SUMMARY:Money Made Simple Workshop
DESCRIPTION:All are invited to:\n“Money Made Simple”\nA practical\, encouraging workshop to help you move from financial stress and confusion to clarity\, confidence\, and peace—without shame or overwhelm.\nIf you’ve ever felt unsure about your finances\, stuck living paycheck to paycheck\, or just wanting a better plan\, this is for you. \nYou’ll walk away with simple tools\, a clearer picture of your money\, and practical next steps that actually work in real life. \nCome as you are—no pressure\, no judgment\, just encouragement and help. \nDate:  June 25\nTime: 6:30 PM\nLocation: Love INC Connection Center\, 321 E. Broadway \nBrought to you by Valkyrie Family Financial Counseling\n\n\nEnroll Here
URL:https://loveincofcushing.org/event/faith-finance-the-accountability-journey-4/
LOCATION:Love INC of Cushing\, 321 E. Broadway St.\, Cushing\, OK\, 74023\, United States
ATTACH;FMTTYPE=image/png:https://loveincofcushing.org/wp-content/uploads/2026/04/Class-Workshop-slides-4.png
END:VEVENT
END:VCALENDAR